{
 "currentVersion": 10.91,
 "serviceDescription": "Environmental/Images_DBO_AerialsCirca1950",
 "name": "Environmental/Images_DBO_AerialsCirca1950",
 "description": "",
 "extent": {
  "xmin": 754063.7202857742,
  "ymin": 1029620.876010782,
  "xmax": 918322.7794517742,
  "ymax": 1182196.718088782,
  "spatialReference": {
   "wkid": 102658,
   "latestWkid": 2236
  }
 },
 "initialExtent": {
  "xmin": 754063.7202857742,
  "ymin": 1029620.876010782,
  "xmax": 918322.7794517742,
  "ymax": 1182196.718088782,
  "spatialReference": {
   "wkid": 102658,
   "latestWkid": 2236
  }
 },
 "fullExtent": {
  "xmin": 754063.7202857742,
  "ymin": 1029620.876010782,
  "xmax": 918322.7794517742,
  "ymax": 1182196.718088782,
  "spatialReference": {
   "wkid": 102658,
   "latestWkid": 2236
  }
 },
 "hasMultidimensions": false,
 "pixelSizeX": 3.2891939999999997,
 "pixelSizeY": 3.2891939999999993,
 "datasetFormat": "FGDBR",
 "uncompressedSize": 4633040786,
 "blockWidth": 128,
 "blockHeight": 128,
 "compressionType": "LZ77",
 "bandNames": [
  "Band_1"
 ],
 "allowCopy": true,
 "allowAnalysis": true,
 "bandCount": 1,
 "pixelType": "U16",
 "minPixelSize": 0,
 "maxPixelSize": 0,
 "copyrightText": "",
 "serviceDataType": "esriImageServiceDataTypeGeneric",
 "serviceSourceType": "esriImageServiceSourceTypeDataset",
 "minValues": [
  0
 ],
 "maxValues": [
  249
 ],
 "meanValues": [
  91.702295555544
 ],
 "stdvValues": [
  43.41744704219752
 ],
 "objectIdField": "",
 "fields": [],
 "capabilities": "Image,Metadata,Mensuration",
 "defaultMosaicMethod": "Center",
 "allowedMosaicMethods": "",
 "sortField": "",
 "sortValue": null,
 "sortAscending": true,
 "mosaicOperator": "First",
 "defaultCompressionQuality": 75,
 "defaultResamplingMethod": "Bilinear",
 "maxImageHeight": 4100,
 "maxImageWidth": 15000,
 "allowRasterFunction": true,
 "rasterFunctionInfos": [
  {
   "name": "None",
   "description": "",
   "help": ""
  }
 ],
 "rasterTypeInfos": [
  {
   "name": "Raster Dataset",
   "description": "Supports all ArcGIS Raster Datasets",
   "help": ""
  }
 ],
 "mensurationCapabilities": "Basic",
 "hasHistograms": true,
 "hasColormap": false,
 "hasRasterAttributeTable": false,
 "minScale": 0,
 "maxScale": 0,
 "exportTilesAllowed": false,
 "supportsStatistics": false,
 "supportsAdvancedQueries": false,
 "editFieldsInfo": null,
 "ownershipBasedAccessControlForRasters": null,
 "allowComputeTiePoints": false,
 "useStandardizedQueries": true,
 "advancedQueryCapabilities": {
  "useStandardizedQueries": true,
  "supportsStatistics": false,
  "supportsOrderBy": false,
  "supportsDistinct": false,
  "supportsPagination": false
 },
 "spatialReference": {
  "wkid": 102658,
  "latestWkid": 2236
 }
}
