View In:
ArcGIS JavaScript
ArcGIS Online Map Viewer
ArcGIS Earth
ArcMap
View Footprint In:
ArcGIS Online Map Viewer
Service Description: Environmental/Images_DBO_AerialsCirca1950
Name: Environmental/Images_DBO_AerialsCirca1950
Description:
Single Fused Map Cache: false
Extent:
XMin: 754063.7202857742
YMin: 1029620.876010782
XMax: 918322.7794517742
YMax: 1182196.718088782
Spatial Reference: 102658
(2236)
Initial Extent:
XMin: 754063.7202857742
YMin: 1029620.876010782
XMax: 918322.7794517742
YMax: 1182196.718088782
Spatial Reference: 102658
(2236)
Full Extent:
XMin: 754063.7202857742
YMin: 1029620.876010782
XMax: 918322.7794517742
YMax: 1182196.718088782
Spatial Reference: 102658
(2236)
Pixel Size X: 3.2891939999999997
Pixel Size Y: 3.2891939999999993
Band Count: 1
Pixel Type: U16
RasterFunction Infos: {"rasterFunctionInfos": [{
"name": "None",
"description": "",
"help": ""
}]}
Mensuration Capabilities: Basic
Has Histograms: true
Has Colormap: false
Has Multi Dimensions : false
Rendering Rule:
Min Scale: 0
Max Scale: 0
Copyright Text:
Service Data Type: esriImageServiceDataTypeGeneric
Min Values: 0
Max Values: 249
Mean Values: 91.702295555544
Standard Deviation Values: 43.41744704219752
Object ID Field:
Fields:
None
Default Mosaic Method: Center
Allowed Mosaic Methods:
SortField:
SortValue: null
Mosaic Operator: First
Default Compression Quality: 75
Default Resampling Method: Bilinear
Max Record Count: null
Max Image Height: 4100
Max Image Width: 15000
Max Download Image Count: null
Max Mosaic Image Count: null
Allow Raster Function: true
Allow Copy: true
Allow Analysis: true
Allow Compute TiePoints: false
Supports Statistics: false
Supports Advanced Queries: false
Use StandardizedQueries: true
Raster Type Infos:
Name: Raster Dataset
Description: Supports all ArcGIS Raster Datasets
Help:
Has Raster Attribute Table: false
Edit Fields Info: null
Ownership Based AccessControl For Rasters: null
Child Resources:
Info
Histograms
Statistics
Key Properties
Legend
Raster Function Infos
Supported Operations:
Export Image
Identify
Measure
Compute Histograms
Compute Statistics Histograms
Get Samples
Compute Class Statistics
Query Boundary
Compute Pixel Location
Compute Angles
Validate
Project